BEGIN:VCALENDAR
VERSION:2.0
PRODID:-//Pilgrim Rest Foundation - ECPv6.15.18//NONSGML v1.0//EN
CALSCALE:GREGORIAN
METHOD:PUBLISH
X-WR-CALNAME:Pilgrim Rest Foundation
X-ORIGINAL-URL:https://pilgrimrestfoundation.org
X-WR-CALDESC:Events for Pilgrim Rest Foundation
REFRESH-INTERVAL;VALUE=DURATION:PT1H
X-Robots-Tag:noindex
X-PUBLISHED-TTL:PT1H
BEGIN:VTIMEZONE
TZID:UTC
BEGIN:STANDARD
TZOFFSETFROM:+0000
TZOFFSETTO:+0000
TZNAME:UTC
DTSTART:20240101T000000
END:STANDARD
END:VTIMEZONE
BEGIN:VEVENT
DTSTART;TZID=UTC:20250213T180000
DTEND;TZID=UTC:20250213T184500
DTSTAMP:20260423T164629
CREATED:20250129T172002Z
LAST-MODIFIED:20250211T173847Z
UID:10000007-1739469600-1739472300@pilgrimrestfoundation.org
SUMMARY:Dreamscape Pod Experience
DESCRIPTION:Join us for an immersive Dreamscape Pod experience at Pilgrim Rest Foundation! Starting Thursday\, February 13\, 2025\, we will open the pod for members and community guests. Each Thursday\, two groups of up to 15 participants will embark on this exciting journey.
URL:https://pilgrimrestfoundation.org/events/dreamscape-pod-experience/
LOCATION:Pilgrim Rest Foundation\, 1401 E. Jefferson Street\, Phoenix\, AZ\, 85034\, United States
CATEGORIES:Dreamscape
ATTACH;FMTTYPE=image/jpeg:https://pilgrimrestfoundation.org/wp-content/uploads/2025/01/C0056T01.jpg
ORGANIZER;CN="Pilgrim Rest Foundation":MAILTO:lgibson@pilgrimrestphx.org
END:VEVENT
END:VCALENDAR