BEGIN:VCALENDAR
VERSION:2.0
PRODID:-//Pilgrim Rest Foundation - ECPv6.15.18//NONSGML v1.0//EN
CALSCALE:GREGORIAN
METHOD:PUBLISH
X-WR-CALNAME:Pilgrim Rest Foundation
X-ORIGINAL-URL:https://pilgrimrestfoundation.org
X-WR-CALDESC:Events for Pilgrim Rest Foundation
REFRESH-INTERVAL;VALUE=DURATION:PT1H
X-Robots-Tag:noindex
X-PUBLISHED-TTL:PT1H
BEGIN:VTIMEZONE
TZID:UTC
BEGIN:STANDARD
TZOFFSETFROM:+0000
TZOFFSETTO:+0000
TZNAME:UTC
DTSTART:20240101T000000
END:STANDARD
END:VTIMEZONE
BEGIN:VEVENT
DTSTART;TZID=UTC:20250501T180000
DTEND;TZID=UTC:20250501T184500
DTSTAMP:20260423T145322
CREATED:20250417T220125Z
LAST-MODIFIED:20250417T220125Z
UID:10000021-1746122400-1746125100@pilgrimrestfoundation.org
SUMMARY:Dreamscape Pod Experience
DESCRIPTION:Join us for an immersive Dreamscape Pod experience at Pilgrim Rest Foundation! Starting Thursday\, February 13\, 2025\, we will open the pod for members and community guests. Each Thursday\, two groups of up to 15 participants will embark on this exciting journey. Participants must be 11 years and older.
URL:https://pilgrimrestfoundation.org/events/dreamscape-pod-experience-15/
LOCATION:Pilgrim Rest Foundation\, 1401 E. Jefferson Street\, Phoenix\, AZ\, 85034\, United States
CATEGORIES:Dreamscape
ATTACH;FMTTYPE=image/jpeg:https://pilgrimrestfoundation.org/wp-content/uploads/2025/01/C0056T01.jpg
ORGANIZER;CN="Pilgrim Rest Foundation":MAILTO:lgibson@pilgrimrestphx.org
END:VEVENT
BEGIN:VEVENT
DTSTART;TZID=UTC:20250424T180000
DTEND;TZID=UTC:20250424T184500
DTSTAMP:20260423T145322
CREATED:20250417T165856Z
LAST-MODIFIED:20250417T165856Z
UID:10000020-1745517600-1745520300@pilgrimrestfoundation.org
SUMMARY:Dreamscape Pod Experience
DESCRIPTION:Join us for an immersive Dreamscape Pod experience at Pilgrim Rest Foundation! Starting Thursday\, February 13\, 2025\, we will open the pod for members and community guests. Each Thursday\, two groups of up to 15 participants will embark on this exciting journey. Participants must be 11 years and older.
URL:https://pilgrimrestfoundation.org/events/dreamscape-pod-experience-14/
LOCATION:Pilgrim Rest Foundation\, 1401 E. Jefferson Street\, Phoenix\, AZ\, 85034\, United States
CATEGORIES:Dreamscape
ATTACH;FMTTYPE=image/jpeg:https://pilgrimrestfoundation.org/wp-content/uploads/2025/01/C0056T01.jpg
ORGANIZER;CN="Pilgrim Rest Foundation":MAILTO:lgibson@pilgrimrestphx.org
END:VEVENT
BEGIN:VEVENT
DTSTART;TZID=UTC:20250417T180000
DTEND;TZID=UTC:20250417T184500
DTSTAMP:20260423T145322
CREATED:20250415T232532Z
LAST-MODIFIED:20250415T232532Z
UID:10000019-1744912800-1744915500@pilgrimrestfoundation.org
SUMMARY:Dreamscape Pod Experience
DESCRIPTION:Join us for an immersive Dreamscape Pod experience at Pilgrim Rest Foundation! Starting Thursday\, February 13\, 2025\, we will open the pod for members and community guests. Each Thursday\, two groups of up to 15 participants will embark on this exciting journey.
URL:https://pilgrimrestfoundation.org/events/dreamscape-pod-experience-13/
LOCATION:Pilgrim Rest Foundation\, 1401 E. Jefferson Street\, Phoenix\, AZ\, 85034\, United States
CATEGORIES:Dreamscape
ATTACH;FMTTYPE=image/jpeg:https://pilgrimrestfoundation.org/wp-content/uploads/2025/01/C0056T01.jpg
ORGANIZER;CN="Pilgrim Rest Foundation":MAILTO:lgibson@pilgrimrestphx.org
END:VEVENT
BEGIN:VEVENT
DTSTART;TZID=UTC:20250410T180000
DTEND;TZID=UTC:20250410T184500
DTSTAMP:20260423T145322
CREATED:20250410T170001Z
LAST-MODIFIED:20250410T170001Z
UID:10000018-1744308000-1744310700@pilgrimrestfoundation.org
SUMMARY:Dreamscape Pod Experience
DESCRIPTION:Join us for an immersive Dreamscape Pod experience at Pilgrim Rest Foundation! Starting Thursday\, February 13\, 2025\, we will open the pod for members and community guests. Each Thursday\, two groups of up to 15 participants will embark on this exciting journey.
URL:https://pilgrimrestfoundation.org/events/dreamscape-pod-experience-12/
LOCATION:Pilgrim Rest Foundation\, 1401 E. Jefferson Street\, Phoenix\, AZ\, 85034\, United States
CATEGORIES:Dreamscape
ATTACH;FMTTYPE=image/jpeg:https://pilgrimrestfoundation.org/wp-content/uploads/2025/01/C0056T01.jpg
ORGANIZER;CN="Pilgrim Rest Foundation":MAILTO:lgibson@pilgrimrestphx.org
END:VEVENT
BEGIN:VEVENT
DTSTART;TZID=UTC:20250403T180000
DTEND;TZID=UTC:20250403T184500
DTSTAMP:20260423T145322
CREATED:20250327T201117Z
LAST-MODIFIED:20250327T201117Z
UID:10000017-1743703200-1743705900@pilgrimrestfoundation.org
SUMMARY:Dreamscape Pod Experience
DESCRIPTION:Join us for an immersive Dreamscape Pod experience at Pilgrim Rest Foundation! Starting Thursday\, February 13\, 2025\, we will open the pod for members and community guests. Each Thursday\, two groups of up to 15 participants will embark on this exciting journey.
URL:https://pilgrimrestfoundation.org/events/dreamscape-pod-experience-11/
LOCATION:Pilgrim Rest Foundation\, 1401 E. Jefferson Street\, Phoenix\, AZ\, 85034\, United States
CATEGORIES:Dreamscape
ATTACH;FMTTYPE=image/jpeg:https://pilgrimrestfoundation.org/wp-content/uploads/2025/01/C0056T01.jpg
ORGANIZER;CN="Pilgrim Rest Foundation":MAILTO:lgibson@pilgrimrestphx.org
END:VEVENT
BEGIN:VEVENT
DTSTART;TZID=UTC:20250320T180000
DTEND;TZID=UTC:20250320T184500
DTSTAMP:20260423T145322
CREATED:20250311T224203Z
LAST-MODIFIED:20250311T224203Z
UID:10000016-1742493600-1742496300@pilgrimrestfoundation.org
SUMMARY:Dreamscape Pod Experience
DESCRIPTION:Join us for an immersive Dreamscape Pod experience at Pilgrim Rest Foundation! Starting Thursday\, February 13\, 2025\, we will open the pod for members and community guests. Each Thursday\, two groups of up to 15 participants will embark on this exciting journey.
URL:https://pilgrimrestfoundation.org/events/dreamscape-pod-experience-10/
LOCATION:Pilgrim Rest Foundation\, 1401 E. Jefferson Street\, Phoenix\, AZ\, 85034\, United States
CATEGORIES:Dreamscape
ATTACH;FMTTYPE=image/jpeg:https://pilgrimrestfoundation.org/wp-content/uploads/2025/01/C0056T01.jpg
ORGANIZER;CN="Pilgrim Rest Foundation":MAILTO:lgibson@pilgrimrestphx.org
END:VEVENT
BEGIN:VEVENT
DTSTART;TZID=UTC:20250313T180000
DTEND;TZID=UTC:20250313T184500
DTSTAMP:20260423T145322
CREATED:20250129T185625Z
LAST-MODIFIED:20250129T185625Z
UID:10000014-1741888800-1741891500@pilgrimrestfoundation.org
SUMMARY:Dreamscape Pod Experience
DESCRIPTION:Join us for an immersive Dreamscape Pod experience at Pilgrim Rest Foundation! Starting Thursday\, February 13\, 2025\, we will open the pod for members and community guests. Each Thursday\, two groups of up to 15 participants will embark on this exciting journey.
URL:https://pilgrimrestfoundation.org/events/dreamscape-pod-experience-8/
LOCATION:Pilgrim Rest Foundation\, 1401 E. Jefferson Street\, Phoenix\, AZ\, 85034\, United States
CATEGORIES:Dreamscape
ATTACH;FMTTYPE=image/jpeg:https://pilgrimrestfoundation.org/wp-content/uploads/2025/01/C0056T01.jpg
ORGANIZER;CN="Pilgrim Rest Foundation":MAILTO:lgibson@pilgrimrestphx.org
END:VEVENT
BEGIN:VEVENT
DTSTART;TZID=UTC:20250306T190000
DTEND;TZID=UTC:20250306T194500
DTSTAMP:20260423T145322
CREATED:20250129T185358Z
LAST-MODIFIED:20250129T185358Z
UID:10000011-1741287600-1741290300@pilgrimrestfoundation.org
SUMMARY:Dreamscape Pod Experience
DESCRIPTION:Join us for an immersive Dreamscape Pod experience at Pilgrim Rest Foundation! Starting Thursday\, February 13\, 2025\, we will open the pod for members and community guests. Each Thursday\, two groups of up to 15 participants will embark on this exciting journey.
URL:https://pilgrimrestfoundation.org/events/dreamscape-pod-experience-5/
LOCATION:Pilgrim Rest Foundation\, 1401 E. Jefferson Street\, Phoenix\, AZ\, 85034\, United States
CATEGORIES:Dreamscape
ATTACH;FMTTYPE=image/jpeg:https://pilgrimrestfoundation.org/wp-content/uploads/2025/01/C0056T01.jpg
ORGANIZER;CN="Pilgrim Rest Foundation":MAILTO:lgibson@pilgrimrestphx.org
END:VEVENT
BEGIN:VEVENT
DTSTART;TZID=UTC:20250306T180000
DTEND;TZID=UTC:20250306T184500
DTSTAMP:20260423T145322
CREATED:20250129T185437Z
LAST-MODIFIED:20250129T185437Z
UID:10000012-1741284000-1741286700@pilgrimrestfoundation.org
SUMMARY:Dreamscape Pod Experience
DESCRIPTION:Join us for an immersive Dreamscape Pod experience at Pilgrim Rest Foundation! Starting Thursday\, February 13\, 2025\, we will open the pod for members and community guests. Each Thursday\, two groups of up to 15 participants will embark on this exciting journey.
URL:https://pilgrimrestfoundation.org/events/dreamscape-pod-experience-6/
LOCATION:Pilgrim Rest Foundation\, 1401 E. Jefferson Street\, Phoenix\, AZ\, 85034\, United States
CATEGORIES:Dreamscape
ATTACH;FMTTYPE=image/jpeg:https://pilgrimrestfoundation.org/wp-content/uploads/2025/01/C0056T01.jpg
ORGANIZER;CN="Pilgrim Rest Foundation":MAILTO:lgibson@pilgrimrestphx.org
END:VEVENT
BEGIN:VEVENT
DTSTART;TZID=UTC:20250227T190000
DTEND;TZID=UTC:20250227T194500
DTSTAMP:20260423T145322
CREATED:20250129T185127Z
LAST-MODIFIED:20250129T185127Z
UID:10000009-1740682800-1740685500@pilgrimrestfoundation.org
SUMMARY:Dreamscape Pod Experience
DESCRIPTION:Join us for an immersive Dreamscape Pod experience at Pilgrim Rest Foundation! Starting Thursday\, February 13\, 2025\, we will open the pod for members and community guests. Each Thursday\, two groups of up to 15 participants will embark on this exciting journey.
URL:https://pilgrimrestfoundation.org/events/dreamscape-pod-experience-3/
LOCATION:Pilgrim Rest Foundation\, 1401 E. Jefferson Street\, Phoenix\, AZ\, 85034\, United States
CATEGORIES:Dreamscape
ATTACH;FMTTYPE=image/jpeg:https://pilgrimrestfoundation.org/wp-content/uploads/2025/01/C0056T01.jpg
ORGANIZER;CN="Pilgrim Rest Foundation":MAILTO:lgibson@pilgrimrestphx.org
END:VEVENT
BEGIN:VEVENT
DTSTART;TZID=UTC:20250227T180000
DTEND;TZID=UTC:20250227T184500
DTSTAMP:20260423T145322
CREATED:20250129T185210Z
LAST-MODIFIED:20250129T185210Z
UID:10000010-1740679200-1740681900@pilgrimrestfoundation.org
SUMMARY:Dreamscape Pod Experience
DESCRIPTION:Join us for an immersive Dreamscape Pod experience at Pilgrim Rest Foundation! Starting Thursday\, February 13\, 2025\, we will open the pod for members and community guests. Each Thursday\, two groups of up to 15 participants will embark on this exciting journey.
URL:https://pilgrimrestfoundation.org/events/dreamscape-pod-experience-4/
LOCATION:Pilgrim Rest Foundation\, 1401 E. Jefferson Street\, Phoenix\, AZ\, 85034\, United States
CATEGORIES:Dreamscape
ATTACH;FMTTYPE=image/jpeg:https://pilgrimrestfoundation.org/wp-content/uploads/2025/01/C0056T01.jpg
ORGANIZER;CN="Pilgrim Rest Foundation":MAILTO:lgibson@pilgrimrestphx.org
END:VEVENT
BEGIN:VEVENT
DTSTART;TZID=UTC:20250213T190000
DTEND;TZID=UTC:20250213T194500
DTSTAMP:20260423T145322
CREATED:20250129T184732Z
LAST-MODIFIED:20250129T185009Z
UID:10000008-1739473200-1739475900@pilgrimrestfoundation.org
SUMMARY:Dreamscape Pod Experience
DESCRIPTION:Join us for an immersive Dreamscape Pod experience at Pilgrim Rest Foundation! Starting Thursday\, February 13\, 2025\, we will open the pod for members and community guests. Each Thursday\, two groups of up to 15 participants will embark on this exciting journey.
URL:https://pilgrimrestfoundation.org/events/dreamscape-pod-experience-2/
LOCATION:Pilgrim Rest Foundation\, 1401 E. Jefferson Street\, Phoenix\, AZ\, 85034\, United States
CATEGORIES:Dreamscape
ATTACH;FMTTYPE=image/jpeg:https://pilgrimrestfoundation.org/wp-content/uploads/2025/01/C0056T01.jpg
ORGANIZER;CN="Pilgrim Rest Foundation":MAILTO:lgibson@pilgrimrestphx.org
END:VEVENT
BEGIN:VEVENT
DTSTART;TZID=UTC:20250213T180000
DTEND;TZID=UTC:20250213T184500
DTSTAMP:20260423T145322
CREATED:20250129T172002Z
LAST-MODIFIED:20250211T173847Z
UID:10000007-1739469600-1739472300@pilgrimrestfoundation.org
SUMMARY:Dreamscape Pod Experience
DESCRIPTION:Join us for an immersive Dreamscape Pod experience at Pilgrim Rest Foundation! Starting Thursday\, February 13\, 2025\, we will open the pod for members and community guests. Each Thursday\, two groups of up to 15 participants will embark on this exciting journey.
URL:https://pilgrimrestfoundation.org/events/dreamscape-pod-experience/
LOCATION:Pilgrim Rest Foundation\, 1401 E. Jefferson Street\, Phoenix\, AZ\, 85034\, United States
CATEGORIES:Dreamscape
ATTACH;FMTTYPE=image/jpeg:https://pilgrimrestfoundation.org/wp-content/uploads/2025/01/C0056T01.jpg
ORGANIZER;CN="Pilgrim Rest Foundation":MAILTO:lgibson@pilgrimrestphx.org
END:VEVENT
END:VCALENDAR